BEGIN:VCALENDAR
VERSION:2.0
PRODID:-//Tukios.com/
BEGIN:VEVENT
UID:4b57c693-e737-455a-b6da-dfe8e193766d@www.pretlowandsons.com
DTSTAMP:20260420T214602Z
DTSTART:20260502T150000Z
DTEND:20260502T160000Z
SUMMARY:Funeral Service
DESCRIPTION:
URL:https://www.pretlowandsons.com/obituaries/darlene-cuffee
LOCATION: 500 Liberty St  Chesapeake VA 23324
GEO:36.8222484;-76.2747207
END:VEVENT
END:VCALENDAR